BEGIN:VCALENDAR
VERSION:2.0
PRODID:-//Gladys Newton School - ECPv6.15.17.1//NONSGML v1.0//EN
CALSCALE:GREGORIAN
METHOD:PUBLISH
X-ORIGINAL-URL:https://gladysnewtonschool.wa.edu.au
X-WR-CALDESC:Events for Gladys Newton School
REFRESH-INTERVAL;VALUE=DURATION:PT1H
X-Robots-Tag:noindex
X-PUBLISHED-TTL:PT1H
BEGIN:VTIMEZONE
TZID:Australia/Perth
BEGIN:STANDARD
TZOFFSETFROM:+0800
TZOFFSETTO:+0800
TZNAME:AWST
DTSTART:20250101T000000
END:STANDARD
END:VTIMEZONE
BEGIN:VEVENT
DTSTART;TZID=Australia/Perth:20260306T133000
DTEND;TZID=Australia/Perth:20260306T140000
DTSTAMP:20260420T202322
CREATED:20260213T004557Z
LAST-MODIFIED:20260213T004557Z
UID:2014-1772803800-1772805600@gladysnewtonschool.wa.edu.au
SUMMARY:Assembly Rm 5 (Seniors)
DESCRIPTION:
URL:https://gladysnewtonschool.wa.edu.au/event/assembly-rm-5-seniors-4/
END:VEVENT
BEGIN:VEVENT
DTSTART;TZID=Australia/Perth:20260313T133000
DTEND;TZID=Australia/Perth:20260313T140000
DTSTAMP:20260420T202322
CREATED:20260213T004801Z
LAST-MODIFIED:20260213T004801Z
UID:2016-1773408600-1773410400@gladysnewtonschool.wa.edu.au
SUMMARY:Assembly Rm 7 (Seniors)
DESCRIPTION:
URL:https://gladysnewtonschool.wa.edu.au/event/assembly-rm-7-seniors/
END:VEVENT
BEGIN:VEVENT
DTSTART;TZID=Australia/Perth:20260320T133000
DTEND;TZID=Australia/Perth:20260320T140000
DTSTAMP:20260420T202322
CREATED:20260213T004925Z
LAST-MODIFIED:20260213T004925Z
UID:2018-1774013400-1774015200@gladysnewtonschool.wa.edu.au
SUMMARY:Assembly Rm 4 (Seniors)
DESCRIPTION:
URL:https://gladysnewtonschool.wa.edu.au/event/assembly-rm-4-seniors/
END:VEVENT
BEGIN:VEVENT
DTSTART;TZID=Australia/Perth:20260327T133000
DTEND;TZID=Australia/Perth:20260327T140000
DTSTAMP:20260420T202322
CREATED:20260213T005015Z
LAST-MODIFIED:20260213T005015Z
UID:2020-1774618200-1774620000@gladysnewtonschool.wa.edu.au
SUMMARY:Assembly Rm 15 (Seniors)
DESCRIPTION:
URL:https://gladysnewtonschool.wa.edu.au/event/assembly-rm-15-seniors-2/
END:VEVENT
END:VCALENDAR