BEGIN:VCALENDAR
VERSION:2.0
PRODID:-//Gladys Newton School - ECPv6.15.17.1//NONSGML v1.0//EN
CALSCALE:GREGORIAN
METHOD:PUBLISH
X-WR-CALNAME:Gladys Newton School
X-ORIGINAL-URL:https://gladysnewtonschool.wa.edu.au
X-WR-CALDESC:Events for Gladys Newton School
REFRESH-INTERVAL;VALUE=DURATION:PT1H
X-Robots-Tag:noindex
X-PUBLISHED-TTL:PT1H
BEGIN:VTIMEZONE
TZID:Australia/Perth
BEGIN:STANDARD
TZOFFSETFROM:+0800
TZOFFSETTO:+0800
TZNAME:AWST
DTSTART:20230101T000000
END:STANDARD
END:VTIMEZONE
BEGIN:VEVENT
DTSTART;TZID=Australia/Perth:20240819T090000
DTEND;TZID=Australia/Perth:20240819T143000
DTSTAMP:20260421T080624
CREATED:20240521T123902Z
LAST-MODIFIED:20240521T123902Z
UID:1270-1724058000-1724077800@gladysnewtonschool.wa.edu.au
SUMMARY:BOOK WEEK
DESCRIPTION:
URL:https://gladysnewtonschool.wa.edu.au/event/book-week/
CATEGORIES:Whole School
END:VEVENT
BEGIN:VEVENT
DTSTART;TZID=Australia/Perth:20240816T133000
DTEND;TZID=Australia/Perth:20240816T143000
DTSTAMP:20260421T080624
CREATED:20240521T122301Z
LAST-MODIFIED:20240521T122301Z
UID:1252-1723815000-1723818600@gladysnewtonschool.wa.edu.au
SUMMARY:Assembly Rm 18 Seniors
DESCRIPTION:
URL:https://gladysnewtonschool.wa.edu.au/event/assembly-rm-18-seniors/
CATEGORIES:Assembly
END:VEVENT
BEGIN:VEVENT
DTSTART;VALUE=DATE:20240815
DTEND;VALUE=DATE:20240816
DTSTAMP:20260421T080624
CREATED:20240625T063644Z
LAST-MODIFIED:20240625T063644Z
UID:1326-1723680000-1723766399@gladysnewtonschool.wa.edu.au
SUMMARY:School Newsletter
DESCRIPTION:
URL:https://gladysnewtonschool.wa.edu.au/event/school-newsletter/
CATEGORIES:Whole School
END:VEVENT
BEGIN:VEVENT
DTSTART;TZID=Australia/Perth:20240813T080000
DTEND;TZID=Australia/Perth:20240813T143000
DTSTAMP:20260421T080624
CREATED:20240625T060543Z
LAST-MODIFIED:20240625T060543Z
UID:1322-1723536000-1723559400@gladysnewtonschool.wa.edu.au
SUMMARY:School Photo Day
DESCRIPTION:
URL:https://gladysnewtonschool.wa.edu.au/event/school-photo-day-2/
CATEGORIES:Whole School
END:VEVENT
BEGIN:VEVENT
DTSTART;TZID=Australia/Perth:20240809T133000
DTEND;TZID=Australia/Perth:20240809T140000
DTSTAMP:20260421T080624
CREATED:20240521T122208Z
LAST-MODIFIED:20240521T122606Z
UID:1250-1723210200-1723212000@gladysnewtonschool.wa.edu.au
SUMMARY:Assembly Rm 6 Juniors
DESCRIPTION:
URL:https://gladysnewtonschool.wa.edu.au/event/assembly-rm-6-juniors/
CATEGORIES:Assembly
END:VEVENT
BEGIN:VEVENT
DTSTART;TZID=Australia/Perth:20240809T093000
DTEND;TZID=Australia/Perth:20240809T140000
DTSTAMP:20260421T080624
CREATED:20240521T123016Z
LAST-MODIFIED:20240521T123016Z
UID:1258-1723195800-1723212000@gladysnewtonschool.wa.edu.au
SUMMARY:Gladys Olympics
DESCRIPTION:
URL:https://gladysnewtonschool.wa.edu.au/event/gladys-olympics/
CATEGORIES:Whole School
END:VEVENT
BEGIN:VEVENT
DTSTART;TZID=Australia/Perth:20240726T133000
DTEND;TZID=Australia/Perth:20240726T170000
DTSTAMP:20260421T080624
CREATED:20240521T122111Z
LAST-MODIFIED:20240521T122111Z
UID:1248-1722000600-1722013200@gladysnewtonschool.wa.edu.au
SUMMARY:Assembly Rm 4  Juniors
DESCRIPTION:
URL:https://gladysnewtonschool.wa.edu.au/event/assembly-rm-4-juniors/
CATEGORIES:Assembly
END:VEVENT
BEGIN:VEVENT
DTSTART;TZID=Australia/Perth:20240716T083000
DTEND;TZID=Australia/Perth:20240716T143000
DTSTAMP:20260421T080624
CREATED:20231120T035334Z
LAST-MODIFIED:20231120T035334Z
UID:954-1721118600-1721140200@gladysnewtonschool.wa.edu.au
SUMMARY:Term 3 begins
DESCRIPTION:
URL:https://gladysnewtonschool.wa.edu.au/event/term-3-begins/
CATEGORIES:Whole School
END:VEVENT
BEGIN:VEVENT
DTSTART;TZID=Australia/Perth:20240715T083000
DTEND;TZID=Australia/Perth:20240715T143000
DTSTAMP:20260421T080624
CREATED:20231120T035250Z
LAST-MODIFIED:20231120T035250Z
UID:952-1721032200-1721053800@gladysnewtonschool.wa.edu.au
SUMMARY:Student Free Day
DESCRIPTION:
URL:https://gladysnewtonschool.wa.edu.au/event/student-free-day-2/
CATEGORIES:Whole School
END:VEVENT
BEGIN:VEVENT
DTSTART;TZID=Australia/Perth:20240628T083000
DTEND;TZID=Australia/Perth:20240628T143000
DTSTAMP:20260421T080624
CREATED:20240517T035031Z
LAST-MODIFIED:20240517T035031Z
UID:1245-1719563400-1719585000@gladysnewtonschool.wa.edu.au
SUMMARY:School Open Day
DESCRIPTION:
URL:https://gladysnewtonschool.wa.edu.au/event/school-open-day/
CATEGORIES:Whole School
END:VEVENT
BEGIN:VEVENT
DTSTART;TZID=Australia/Perth:20240628T080000
DTEND;TZID=Australia/Perth:20240628T143000
DTSTAMP:20260421T080624
CREATED:20231120T034856Z
LAST-MODIFIED:20231120T035042Z
UID:948-1719561600-1719585000@gladysnewtonschool.wa.edu.au
SUMMARY:End of Term 2
DESCRIPTION:
URL:https://gladysnewtonschool.wa.edu.au/event/end-of-term-2/
CATEGORIES:Whole School
END:VEVENT
BEGIN:VEVENT
DTSTART;VALUE=DATE:20240628
DTEND;VALUE=DATE:20240629
DTSTAMP:20260421T080624
CREATED:20240328T042946Z
LAST-MODIFIED:20240328T042946Z
UID:1153-1719532800-1719619199@gladysnewtonschool.wa.edu.au
SUMMARY:End of Term 2 - Last day for Students
DESCRIPTION:
URL:https://gladysnewtonschool.wa.edu.au/event/end-of-term-2-last-day-for-students/
END:VEVENT
BEGIN:VEVENT
DTSTART;TZID=Australia/Perth:20240627T080000
DTEND;TZID=Australia/Perth:20240627T083000
DTSTAMP:20260421T080624
CREATED:20240624T055101Z
LAST-MODIFIED:20240624T055101Z
UID:1313-1719475200-1719477000@gladysnewtonschool.wa.edu.au
SUMMARY:School Board Meeting
DESCRIPTION:
URL:https://gladysnewtonschool.wa.edu.au/event/school-board-meeting-8/
CATEGORIES:School Board Meeting
END:VEVENT
BEGIN:VEVENT
DTSTART;TZID=Australia/Perth:20240621T133000
DTEND;TZID=Australia/Perth:20240621T140000
DTSTAMP:20260421T080624
CREATED:20240517T033127Z
LAST-MODIFIED:20240517T034512Z
UID:1235-1718976600-1718978400@gladysnewtonschool.wa.edu.au
SUMMARY:Rm 5 Assembly - Juniors & Intermediates
DESCRIPTION:
URL:https://gladysnewtonschool.wa.edu.au/event/rm-5-assembly-juniors-intermediates/
CATEGORIES:Assembly
END:VEVENT
BEGIN:VEVENT
DTSTART;TZID=Australia/Perth:20240619T090000
DTEND;TZID=Australia/Perth:20240619T143000
DTSTAMP:20260421T080624
CREATED:20240220T055839Z
LAST-MODIFIED:20240220T055839Z
UID:1070-1718787600-1718807400@gladysnewtonschool.wa.edu.au
SUMMARY:BRC - Nearer to Nature Incursion
DESCRIPTION:
URL:https://gladysnewtonschool.wa.edu.au/event/brc-nearer-to-nature-incursion/
END:VEVENT
BEGIN:VEVENT
DTSTART;TZID=Australia/Perth:20240618T093000
DTEND;TZID=Australia/Perth:20240618T123000
DTSTAMP:20260421T080624
CREATED:20240418T071124Z
LAST-MODIFIED:20240418T071419Z
UID:1199-1718703000-1718713800@gladysnewtonschool.wa.edu.au
SUMMARY:Bayswater Waves
DESCRIPTION:
URL:https://gladysnewtonschool.wa.edu.au/event/bayswater-waves-8/
ATTACH;FMTTYPE=image/jpeg:https://gladysnewtonschool.wa.edu.au/wp-content/uploads/2024/04/bayswater-waves.jpg
END:VEVENT
BEGIN:VEVENT
DTSTART;TZID=Australia/Perth:20240614T133000
DTEND;TZID=Australia/Perth:20240614T140000
DTSTAMP:20260421T080624
CREATED:20240517T033038Z
LAST-MODIFIED:20240521T122649Z
UID:1233-1718371800-1718373600@gladysnewtonschool.wa.edu.au
SUMMARY:Rm 12 Assembly - Seniors
DESCRIPTION:
URL:https://gladysnewtonschool.wa.edu.au/event/rm-12-assembly-seniors/
CATEGORIES:Assembly
END:VEVENT
BEGIN:VEVENT
DTSTART;TZID=Australia/Perth:20240612T090000
DTEND;TZID=Australia/Perth:20240612T143000
DTSTAMP:20260421T080624
CREATED:20240220T055713Z
LAST-MODIFIED:20240220T055713Z
UID:1068-1718182800-1718202600@gladysnewtonschool.wa.edu.au
SUMMARY:BRC - WA Gould League Campsite Setup
DESCRIPTION:
URL:https://gladysnewtonschool.wa.edu.au/event/brc-wa-gould-league-campsite-setup/
END:VEVENT
BEGIN:VEVENT
DTSTART;TZID=Australia/Perth:20240612T080000
DTEND;TZID=Australia/Perth:20240612T090000
DTSTAMP:20260421T080624
CREATED:20240314T134245Z
LAST-MODIFIED:20240314T134245Z
UID:1115-1718179200-1718182800@gladysnewtonschool.wa.edu.au
SUMMARY:School Board Meeting
DESCRIPTION:
URL:https://gladysnewtonschool.wa.edu.au/event/school-board-meeting/
CATEGORIES:School Board Meeting
END:VEVENT
BEGIN:VEVENT
DTSTART;TZID=Australia/Perth:20240607T133000
DTEND;TZID=Australia/Perth:20240607T140000
DTSTAMP:20260421T080624
CREATED:20240517T032716Z
LAST-MODIFIED:20240517T034628Z
UID:1226-1717767000-1717768800@gladysnewtonschool.wa.edu.au
SUMMARY:Rm 3 Assembly - Juniors & Intermediates
DESCRIPTION:
URL:https://gladysnewtonschool.wa.edu.au/event/rm-18-assembly-seniors/
CATEGORIES:Assembly
END:VEVENT
BEGIN:VEVENT
DTSTART;TZID=Australia/Perth:20240605T090000
DTEND;TZID=Australia/Perth:20240605T143000
DTSTAMP:20260421T080624
CREATED:20240220T055611Z
LAST-MODIFIED:20240220T055611Z
UID:1066-1717578000-1717597800@gladysnewtonschool.wa.edu.au
SUMMARY:BRC - Nearer to Nature
DESCRIPTION:
URL:https://gladysnewtonschool.wa.edu.au/event/brc-nearer-to-nature/
END:VEVENT
BEGIN:VEVENT
DTSTART;TZID=Australia/Perth:20240604T093000
DTEND;TZID=Australia/Perth:20240604T123000
DTSTAMP:20260421T080624
CREATED:20240418T070129Z
LAST-MODIFIED:20240418T071046Z
UID:1197-1717493400-1717504200@gladysnewtonschool.wa.edu.au
SUMMARY:Bayswater Waves
DESCRIPTION:
URL:https://gladysnewtonschool.wa.edu.au/event/bayswater-waves-7/
END:VEVENT
BEGIN:VEVENT
DTSTART;VALUE=DATE:20240603
DTEND;VALUE=DATE:20240604
DTSTAMP:20260421T080624
CREATED:20240328T042706Z
LAST-MODIFIED:20240418T054331Z
UID:1149-1717372800-1717459199@gladysnewtonschool.wa.edu.au
SUMMARY:WA Day Public Holiday
DESCRIPTION:
URL:https://gladysnewtonschool.wa.edu.au/event/wa-day-public-holiday/
CATEGORIES:Public Holiday
END:VEVENT
BEGIN:VEVENT
DTSTART;VALUE=DATE:20240531
DTEND;VALUE=DATE:20240601
DTSTAMP:20260421T080624
CREATED:20240328T042747Z
LAST-MODIFIED:20240418T054441Z
UID:1151-1717113600-1717199999@gladysnewtonschool.wa.edu.au
SUMMARY:Staff PL - Student Free Day
DESCRIPTION:
URL:https://gladysnewtonschool.wa.edu.au/event/school-development-day-student-free-day/
CATEGORIES:Whole School
END:VEVENT
BEGIN:VEVENT
DTSTART;TZID=Australia/Perth:20240530T090000
DTEND;TZID=Australia/Perth:20240530T110000
DTSTAMP:20260421T080624
CREATED:20240517T020243Z
LAST-MODIFIED:20240517T020243Z
UID:1224-1717059600-1717066800@gladysnewtonschool.wa.edu.au
SUMMARY:Year 7 & Yr 10 Immunisations
DESCRIPTION:
URL:https://gladysnewtonschool.wa.edu.au/event/year-7-yr-10-immunisations/
END:VEVENT
BEGIN:VEVENT
DTSTART;TZID=Australia/Perth:20240524T133000
DTEND;TZID=Australia/Perth:20240524T140000
DTSTAMP:20260421T080624
CREATED:20240517T032953Z
LAST-MODIFIED:20240517T035217Z
UID:1231-1716557400-1716559200@gladysnewtonschool.wa.edu.au
SUMMARY:Rm 18 Assembly - Seniors
DESCRIPTION:
URL:https://gladysnewtonschool.wa.edu.au/event/rm-18-assembly-seniors-2/
CATEGORIES:Assembly
END:VEVENT
BEGIN:VEVENT
DTSTART;TZID=Australia/Perth:20240521T093000
DTEND;TZID=Australia/Perth:20240521T123000
DTSTAMP:20260421T080624
CREATED:20240418T065712Z
LAST-MODIFIED:20240418T065837Z
UID:1195-1716283800-1716294600@gladysnewtonschool.wa.edu.au
SUMMARY:Bayswater Waves
DESCRIPTION:
URL:https://gladysnewtonschool.wa.edu.au/event/bayswater-waves-6/
END:VEVENT
BEGIN:VEVENT
DTSTART;TZID=Australia/Perth:20240517T133000
DTEND;TZID=Australia/Perth:20240517T140000
DTSTAMP:20260421T080624
CREATED:20240517T015756Z
LAST-MODIFIED:20240517T053846Z
UID:1222-1715952600-1715954400@gladysnewtonschool.wa.edu.au
SUMMARY:Room 10 Assembly - Juniors & Intermediates
DESCRIPTION:
URL:https://gladysnewtonschool.wa.edu.au/event/room-10-assembly/
CATEGORIES:Assembly,Whole School
END:VEVENT
BEGIN:VEVENT
DTSTART;TZID=Australia/Perth:20240515T090000
DTEND;TZID=Australia/Perth:20240516T143000
DTSTAMP:20260421T080624
CREATED:20240220T054800Z
LAST-MODIFIED:20240220T054800Z
UID:1064-1715763600-1715869800@gladysnewtonschool.wa.edu.au
SUMMARY:BRC - Camp Yanchep
DESCRIPTION:
URL:https://gladysnewtonschool.wa.edu.au/event/brc-camp-yanchep/
END:VEVENT
BEGIN:VEVENT
DTSTART;VALUE=DATE:20240512
DTEND;VALUE=DATE:20240513
DTSTAMP:20260421T080624
CREATED:20240418T044722Z
LAST-MODIFIED:20240418T052717Z
UID:1172-1715472000-1715558399@gladysnewtonschool.wa.edu.au
SUMMARY:Mother's Day
DESCRIPTION:
URL:https://gladysnewtonschool.wa.edu.au/event/mothers-day/
CATEGORIES:Whole School
ATTACH;FMTTYPE=image/jpeg:https://gladysnewtonschool.wa.edu.au/wp-content/uploads/2024/04/Mothers-day.jpg
END:VEVENT
END:VCALENDAR