BEGIN:VCALENDAR
VERSION:2.0
PRODID:-//Gladys Newton School - ECPv6.15.17.1//NONSGML v1.0//EN
CALSCALE:GREGORIAN
METHOD:PUBLISH
X-WR-CALNAME:Gladys Newton School
X-ORIGINAL-URL:https://gladysnewtonschool.wa.edu.au
X-WR-CALDESC:Events for Gladys Newton School
REFRESH-INTERVAL;VALUE=DURATION:PT1H
X-Robots-Tag:noindex
X-PUBLISHED-TTL:PT1H
BEGIN:VTIMEZONE
TZID:Australia/Perth
BEGIN:STANDARD
TZOFFSETFROM:+0800
TZOFFSETTO:+0800
TZNAME:AWST
DTSTART:20220101T000000
END:STANDARD
END:VTIMEZONE
BEGIN:VEVENT
DTSTART;TZID=Australia/Perth:20240530T090000
DTEND;TZID=Australia/Perth:20240530T110000
DTSTAMP:20260421T111130
CREATED:20240517T020243Z
LAST-MODIFIED:20240517T020243Z
UID:1224-1717059600-1717066800@gladysnewtonschool.wa.edu.au
SUMMARY:Year 7 & Yr 10 Immunisations
DESCRIPTION:
URL:https://gladysnewtonschool.wa.edu.au/event/year-7-yr-10-immunisations/
END:VEVENT
BEGIN:VEVENT
DTSTART;TZID=Australia/Perth:20240524T133000
DTEND;TZID=Australia/Perth:20240524T140000
DTSTAMP:20260421T111130
CREATED:20240517T032953Z
LAST-MODIFIED:20240517T035217Z
UID:1231-1716557400-1716559200@gladysnewtonschool.wa.edu.au
SUMMARY:Rm 18 Assembly - Seniors
DESCRIPTION:
URL:https://gladysnewtonschool.wa.edu.au/event/rm-18-assembly-seniors-2/
CATEGORIES:Assembly
END:VEVENT
BEGIN:VEVENT
DTSTART;TZID=Australia/Perth:20240521T093000
DTEND;TZID=Australia/Perth:20240521T123000
DTSTAMP:20260421T111130
CREATED:20240418T065712Z
LAST-MODIFIED:20240418T065837Z
UID:1195-1716283800-1716294600@gladysnewtonschool.wa.edu.au
SUMMARY:Bayswater Waves
DESCRIPTION:
URL:https://gladysnewtonschool.wa.edu.au/event/bayswater-waves-6/
END:VEVENT
BEGIN:VEVENT
DTSTART;TZID=Australia/Perth:20240517T133000
DTEND;TZID=Australia/Perth:20240517T140000
DTSTAMP:20260421T111130
CREATED:20240517T015756Z
LAST-MODIFIED:20240517T053846Z
UID:1222-1715952600-1715954400@gladysnewtonschool.wa.edu.au
SUMMARY:Room 10 Assembly - Juniors & Intermediates
DESCRIPTION:
URL:https://gladysnewtonschool.wa.edu.au/event/room-10-assembly/
CATEGORIES:Assembly,Whole School
END:VEVENT
BEGIN:VEVENT
DTSTART;TZID=Australia/Perth:20240515T090000
DTEND;TZID=Australia/Perth:20240516T143000
DTSTAMP:20260421T111130
CREATED:20240220T054800Z
LAST-MODIFIED:20240220T054800Z
UID:1064-1715763600-1715869800@gladysnewtonschool.wa.edu.au
SUMMARY:BRC - Camp Yanchep
DESCRIPTION:
URL:https://gladysnewtonschool.wa.edu.au/event/brc-camp-yanchep/
END:VEVENT
BEGIN:VEVENT
DTSTART;VALUE=DATE:20240512
DTEND;VALUE=DATE:20240513
DTSTAMP:20260421T111130
CREATED:20240418T044722Z
LAST-MODIFIED:20240418T052717Z
UID:1172-1715472000-1715558399@gladysnewtonschool.wa.edu.au
SUMMARY:Mother's Day
DESCRIPTION:
URL:https://gladysnewtonschool.wa.edu.au/event/mothers-day/
CATEGORIES:Whole School
ATTACH;FMTTYPE=image/jpeg:https://gladysnewtonschool.wa.edu.au/wp-content/uploads/2024/04/Mothers-day.jpg
END:VEVENT
BEGIN:VEVENT
DTSTART;TZID=Australia/Perth:20240510T133000
DTEND;TZID=Australia/Perth:20240510T140000
DTSTAMP:20260421T111130
CREATED:20240517T033225Z
LAST-MODIFIED:20240517T033225Z
UID:1237-1715347800-1715349600@gladysnewtonschool.wa.edu.au
SUMMARY:Rm 1 Assembly - Juniors & Intermediates
DESCRIPTION:
URL:https://gladysnewtonschool.wa.edu.au/event/rm-1-assembly-juniors-intermediates/
END:VEVENT
BEGIN:VEVENT
DTSTART;TZID=Australia/Perth:20240507T093000
DTEND;TZID=Australia/Perth:20240507T123000
DTSTAMP:20260421T111130
CREATED:20240418T065601Z
LAST-MODIFIED:20240418T065951Z
UID:1193-1715074200-1715085000@gladysnewtonschool.wa.edu.au
SUMMARY:Bayswater Waves
DESCRIPTION:
URL:https://gladysnewtonschool.wa.edu.au/event/bayswater-waves-5/
END:VEVENT
BEGIN:VEVENT
DTSTART;TZID=Australia/Perth:20240503T133000
DTEND;TZID=Australia/Perth:20240503T140000
DTSTAMP:20260421T111130
CREATED:20240517T033307Z
LAST-MODIFIED:20240517T033307Z
UID:1239-1714743000-1714744800@gladysnewtonschool.wa.edu.au
SUMMARY:Rm 20 Assembly - Seniors
DESCRIPTION:
URL:https://gladysnewtonschool.wa.edu.au/event/rm-20-assembly-seniors/
END:VEVENT
BEGIN:VEVENT
DTSTART;TZID=Australia/Perth:20240426T133000
DTEND;TZID=Australia/Perth:20240426T140000
DTSTAMP:20260421T111130
CREATED:20240517T033355Z
LAST-MODIFIED:20240517T033355Z
UID:1241-1714138200-1714140000@gladysnewtonschool.wa.edu.au
SUMMARY:Rm 7 Assembly - Junior & Intermediates
DESCRIPTION:
URL:https://gladysnewtonschool.wa.edu.au/event/rm-7-assembly-junior-intermediates/
END:VEVENT
BEGIN:VEVENT
DTSTART;TZID=Australia/Perth:20240425T080000
DTEND;TZID=Australia/Perth:20240425T170000
DTSTAMP:20260421T111130
CREATED:20240517T033522Z
LAST-MODIFIED:20240517T033618Z
UID:1243-1714032000-1714064400@gladysnewtonschool.wa.edu.au
SUMMARY:ANZAC DAY - Public Holiday
DESCRIPTION:
URL:https://gladysnewtonschool.wa.edu.au/event/anzac-day-public-holiday-2/
CATEGORIES:Public Holiday
END:VEVENT
BEGIN:VEVENT
DTSTART;VALUE=DATE:20240425
DTEND;VALUE=DATE:20240426
DTSTAMP:20260421T111130
CREATED:20240328T042617Z
LAST-MODIFIED:20240418T044551Z
UID:1147-1714003200-1714089599@gladysnewtonschool.wa.edu.au
SUMMARY:Anzac Day Public Holiday
DESCRIPTION:
URL:https://gladysnewtonschool.wa.edu.au/event/anzac-day-public-holiday/
CATEGORIES:Public Holiday
END:VEVENT
BEGIN:VEVENT
DTSTART;TZID=Australia/Perth:20240424T113000
DTEND;TZID=Australia/Perth:20240424T123000
DTSTAMP:20260421T111130
CREATED:20240418T065531Z
LAST-MODIFIED:20240418T065531Z
UID:1191-1713958200-1713961800@gladysnewtonschool.wa.edu.au
SUMMARY:Bayswater Waves
DESCRIPTION:
URL:https://gladysnewtonschool.wa.edu.au/event/bayswater-waves-4/
END:VEVENT
BEGIN:VEVENT
DTSTART;TZID=Australia/Perth:20240424T090000
DTEND;TZID=Australia/Perth:20240424T133000
DTSTAMP:20260421T111130
CREATED:20240220T054256Z
LAST-MODIFIED:20240220T054644Z
UID:1058-1713949200-1713965400@gladysnewtonschool.wa.edu.au
SUMMARY:BRC - WA League Gould
DESCRIPTION:
URL:https://gladysnewtonschool.wa.edu.au/event/wa-league-gould/
END:VEVENT
BEGIN:VEVENT
DTSTART;TZID=Australia/Perth:20240415T083000
DTEND;TZID=Australia/Perth:20240415T143000
DTSTAMP:20260421T111130
CREATED:20231120T034742Z
LAST-MODIFIED:20240314T134559Z
UID:946-1713169800-1713191400@gladysnewtonschool.wa.edu.au
SUMMARY:Term 2 Begins
DESCRIPTION:
URL:https://gladysnewtonschool.wa.edu.au/event/term-2-begins/
CATEGORIES:Term Dates
END:VEVENT
BEGIN:VEVENT
DTSTART;TZID=Australia/Perth:20240331T080000
DTEND;TZID=Australia/Perth:20240331T170000
DTSTAMP:20260421T111130
CREATED:20240314T142920Z
LAST-MODIFIED:20240314T142954Z
UID:1123-1711872000-1711904400@gladysnewtonschool.wa.edu.au
SUMMARY:Easter Sunday
DESCRIPTION:Happy Easter
URL:https://gladysnewtonschool.wa.edu.au/event/easter-sunday/
END:VEVENT
BEGIN:VEVENT
DTSTART;TZID=Australia/Perth:20240329T080000
DTEND;TZID=Australia/Perth:20240329T170000
DTSTAMP:20260421T111130
CREATED:20240314T142838Z
LAST-MODIFIED:20240314T142838Z
UID:1121-1711699200-1711731600@gladysnewtonschool.wa.edu.au
SUMMARY:Good Friday
DESCRIPTION:
URL:https://gladysnewtonschool.wa.edu.au/event/good-friday/
END:VEVENT
BEGIN:VEVENT
DTSTART;TZID=Australia/Perth:20240328T083000
DTEND;TZID=Australia/Perth:20240328T143000
DTSTAMP:20260421T111130
CREATED:20231120T034637Z
LAST-MODIFIED:20231120T034637Z
UID:944-1711614600-1711636200@gladysnewtonschool.wa.edu.au
SUMMARY:End of Term 1
DESCRIPTION:
URL:https://gladysnewtonschool.wa.edu.au/event/end-of-term-1/
CATEGORIES:Whole School
END:VEVENT
BEGIN:VEVENT
DTSTART;TZID=Australia/Perth:20240327T090000
DTEND;TZID=Australia/Perth:20240327T133000
DTSTAMP:20260421T111130
CREATED:20240220T054136Z
LAST-MODIFIED:20240220T054136Z
UID:1056-1711530000-1711546200@gladysnewtonschool.wa.edu.au
SUMMARY:BRC - Excursion Educated by Nature
DESCRIPTION:
URL:https://gladysnewtonschool.wa.edu.au/event/brc-excursion-educated-by-nature-3/
END:VEVENT
BEGIN:VEVENT
DTSTART;TZID=Australia/Perth:20240320T090000
DTEND;TZID=Australia/Perth:20240320T133000
DTSTAMP:20260421T111130
CREATED:20240220T054042Z
LAST-MODIFIED:20240220T054042Z
UID:1054-1710925200-1710941400@gladysnewtonschool.wa.edu.au
SUMMARY:BRC - Excursion Educated by Nature
DESCRIPTION:
URL:https://gladysnewtonschool.wa.edu.au/event/brc-excursion-educated-by-nature-2/
END:VEVENT
BEGIN:VEVENT
DTSTART;TZID=Australia/Perth:20240319T110000
DTEND;TZID=Australia/Perth:20240319T123000
DTSTAMP:20260421T111130
CREATED:20240418T065440Z
LAST-MODIFIED:20240418T065440Z
UID:1189-1710846000-1710851400@gladysnewtonschool.wa.edu.au
SUMMARY:Bayswater Waves
DESCRIPTION:
URL:https://gladysnewtonschool.wa.edu.au/event/bayswater-waves-3/
END:VEVENT
BEGIN:VEVENT
DTSTART;TZID=Australia/Perth:20240306T090000
DTEND;TZID=Australia/Perth:20240306T133000
DTSTAMP:20260421T111130
CREATED:20240220T053932Z
LAST-MODIFIED:20240220T053947Z
UID:1052-1709715600-1709731800@gladysnewtonschool.wa.edu.au
SUMMARY:BRC - Excursion Educated by Nature
DESCRIPTION:
URL:https://gladysnewtonschool.wa.edu.au/event/brc-excursion-educated-by-nature/
END:VEVENT
BEGIN:VEVENT
DTSTART;TZID=Australia/Perth:20240305T113000
DTEND;TZID=Australia/Perth:20240305T123000
DTSTAMP:20260421T111130
CREATED:20240418T065403Z
LAST-MODIFIED:20240418T065403Z
UID:1187-1709638200-1709641800@gladysnewtonschool.wa.edu.au
SUMMARY:Bayswater Waves
DESCRIPTION:
URL:https://gladysnewtonschool.wa.edu.au/event/bayswater-waves-2/
END:VEVENT
BEGIN:VEVENT
DTSTART;TZID=Australia/Perth:20240301T090000
DTEND;TZID=Australia/Perth:20240301T133000
DTSTAMP:20260421T111130
CREATED:20240220T054401Z
LAST-MODIFIED:20240220T054411Z
UID:1060-1709283600-1709299800@gladysnewtonschool.wa.edu.au
SUMMARY:BRC - Weeding - Flower Press Making
DESCRIPTION:
URL:https://gladysnewtonschool.wa.edu.au/event/weeding-flower-press-making/
END:VEVENT
BEGIN:VEVENT
DTSTART;TZID=Australia/Perth:20240228T090000
DTEND;TZID=Australia/Perth:20240228T140000
DTSTAMP:20260421T111130
CREATED:20240220T053605Z
LAST-MODIFIED:20240220T053605Z
UID:1050-1709110800-1709128800@gladysnewtonschool.wa.edu.au
SUMMARY:BRC - Bird Watching/Bush Walking
DESCRIPTION:
URL:https://gladysnewtonschool.wa.edu.au/event/brc-bird-watching-bush-walking/
END:VEVENT
BEGIN:VEVENT
DTSTART;TZID=Australia/Perth:20240202T113000
DTEND;TZID=Australia/Perth:20240202T170000
DTSTAMP:20260421T111130
CREATED:20240418T065259Z
LAST-MODIFIED:20240418T065259Z
UID:1185-1706873400-1706893200@gladysnewtonschool.wa.edu.au
SUMMARY:Bayswater Waves
DESCRIPTION:
URL:https://gladysnewtonschool.wa.edu.au/event/bayswater-waves/
END:VEVENT
BEGIN:VEVENT
DTSTART;TZID=Australia/Perth:20240131T083000
DTEND;TZID=Australia/Perth:20240131T210000
DTSTAMP:20260421T111130
CREATED:20231120T034026Z
LAST-MODIFIED:20231120T034026Z
UID:937-1706689800-1706734800@gladysnewtonschool.wa.edu.au
SUMMARY:Term 1 Begins - Students Attend
DESCRIPTION:
URL:https://gladysnewtonschool.wa.edu.au/event/term-1-begins-students-attend/
CATEGORIES:Whole School
END:VEVENT
BEGIN:VEVENT
DTSTART;TZID=Australia/Perth:20240130T080000
DTEND;TZID=Australia/Perth:20240130T150000
DTSTAMP:20260421T111130
CREATED:20231120T034456Z
LAST-MODIFIED:20231120T034456Z
UID:941-1706601600-1706626800@gladysnewtonschool.wa.edu.au
SUMMARY:Staff PL DAY - No Students
DESCRIPTION:
URL:https://gladysnewtonschool.wa.edu.au/event/staff-pl-day-no-students-2/
END:VEVENT
BEGIN:VEVENT
DTSTART;TZID=Australia/Perth:20240129T080000
DTEND;TZID=Australia/Perth:20240129T150000
DTSTAMP:20260421T111130
CREATED:20231120T034346Z
LAST-MODIFIED:20231120T034544Z
UID:939-1706515200-1706540400@gladysnewtonschool.wa.edu.au
SUMMARY:Staff PL DAY- No Students
DESCRIPTION:
URL:https://gladysnewtonschool.wa.edu.au/event/staff-pl-day-no-students/
END:VEVENT
BEGIN:VEVENT
DTSTART;VALUE=DATE:20231214
DTEND;VALUE=DATE:20231215
DTSTAMP:20260421T111130
CREATED:20230926T073236Z
LAST-MODIFIED:20231010T113015Z
UID:672-1702512000-1702598399@gladysnewtonschool.wa.edu.au
SUMMARY:End of Term 4 - Students
DESCRIPTION:
URL:https://gladysnewtonschool.wa.edu.au/event/term-4-finishes/
CATEGORIES:Term Dates
END:VEVENT
END:VCALENDAR