BEGIN:VCALENDAR
VERSION:2.0
PRODID:-//Gladys Newton School - ECPv6.15.17.1//NONSGML v1.0//EN
CALSCALE:GREGORIAN
METHOD:PUBLISH
X-WR-CALNAME:Gladys Newton School
X-ORIGINAL-URL:https://gladysnewtonschool.wa.edu.au
X-WR-CALDESC:Events for Gladys Newton School
REFRESH-INTERVAL;VALUE=DURATION:PT1H
X-Robots-Tag:noindex
X-PUBLISHED-TTL:PT1H
BEGIN:VTIMEZONE
TZID:Australia/Perth
BEGIN:STANDARD
TZOFFSETFROM:+0800
TZOFFSETTO:+0800
TZNAME:AWST
DTSTART:20240101T000000
END:STANDARD
END:VTIMEZONE
BEGIN:VEVENT
DTSTART;TZID=Australia/Perth:20260703T133000
DTEND;TZID=Australia/Perth:20260703T140000
DTSTAMP:20260421T140338
CREATED:20260213T010404Z
LAST-MODIFIED:20260213T010404Z
UID:2044-1783085400-1783087200@gladysnewtonschool.wa.edu.au
SUMMARY:Assembly Rm 12 (Seniors)
DESCRIPTION:
URL:https://gladysnewtonschool.wa.edu.au/event/assembly-rm-12-seniors/
END:VEVENT
BEGIN:VEVENT
DTSTART;TZID=Australia/Perth:20260703T081500
DTEND;TZID=Australia/Perth:20260703T143000
DTSTAMP:20260421T140338
CREATED:20251030T094739Z
LAST-MODIFIED:20251030T095438Z
UID:1947-1783066500-1783089000@gladysnewtonschool.wa.edu.au
SUMMARY:Term 2 Ends
DESCRIPTION:
URL:https://gladysnewtonschool.wa.edu.au/event/term-2-ends/
END:VEVENT
BEGIN:VEVENT
DTSTART;TZID=Australia/Perth:20260626T133000
DTEND;TZID=Australia/Perth:20260626T140000
DTSTAMP:20260421T140338
CREATED:20260213T010326Z
LAST-MODIFIED:20260213T010326Z
UID:2042-1782480600-1782482400@gladysnewtonschool.wa.edu.au
SUMMARY:Assembly Rm 21 (Seniors)
DESCRIPTION:
URL:https://gladysnewtonschool.wa.edu.au/event/assembly-rm-21-seniors-3/
END:VEVENT
BEGIN:VEVENT
DTSTART;TZID=Australia/Perth:20260619T133000
DTEND;TZID=Australia/Perth:20260619T140000
DTSTAMP:20260421T140338
CREATED:20260213T010214Z
LAST-MODIFIED:20260213T010214Z
UID:2040-1781875800-1781877600@gladysnewtonschool.wa.edu.au
SUMMARY:Assembly Rm 1 (Juniors)
DESCRIPTION:
URL:https://gladysnewtonschool.wa.edu.au/event/assembly-rm-1-juniors/
END:VEVENT
BEGIN:VEVENT
DTSTART;TZID=Australia/Perth:20260612T133000
DTEND;TZID=Australia/Perth:20260612T140000
DTSTAMP:20260421T140338
CREATED:20260213T010121Z
LAST-MODIFIED:20260213T010121Z
UID:2038-1781271000-1781272800@gladysnewtonschool.wa.edu.au
SUMMARY:Assembly Rm 19 (Seniors)
DESCRIPTION:
URL:https://gladysnewtonschool.wa.edu.au/event/assembly-rm-19-seniors-2/
END:VEVENT
BEGIN:VEVENT
DTSTART;TZID=Australia/Perth:20260605T133000
DTEND;TZID=Australia/Perth:20260605T140000
DTSTAMP:20260421T140338
CREATED:20260213T010037Z
LAST-MODIFIED:20260213T010037Z
UID:2035-1780666200-1780668000@gladysnewtonschool.wa.edu.au
SUMMARY:Assembly Rm 2A (Juniors)
DESCRIPTION:
URL:https://gladysnewtonschool.wa.edu.au/event/assembly-rm-2a-juniors/
END:VEVENT
BEGIN:VEVENT
DTSTART;TZID=Australia/Perth:20260529T133000
DTEND;TZID=Australia/Perth:20260529T140000
DTSTAMP:20260421T140338
CREATED:20260213T005942Z
LAST-MODIFIED:20260213T005942Z
UID:2033-1780061400-1780063200@gladysnewtonschool.wa.edu.au
SUMMARY:Assembly Rm 20 (Seniors)
DESCRIPTION:
URL:https://gladysnewtonschool.wa.edu.au/event/assembly-rm-20-seniors-2/
END:VEVENT
BEGIN:VEVENT
DTSTART;TZID=Australia/Perth:20260522T133000
DTEND;TZID=Australia/Perth:20260522T140000
DTSTAMP:20260421T140338
CREATED:20260213T005659Z
LAST-MODIFIED:20260213T005659Z
UID:2031-1779456600-1779458400@gladysnewtonschool.wa.edu.au
SUMMARY:Assembly Rm 2 (Juniors)
DESCRIPTION:
URL:https://gladysnewtonschool.wa.edu.au/event/assembly-rm-2-juniors-3/
END:VEVENT
BEGIN:VEVENT
DTSTART;TZID=Australia/Perth:20260515T133000
DTEND;TZID=Australia/Perth:20260515T140000
DTSTAMP:20260421T140338
CREATED:20260213T005608Z
LAST-MODIFIED:20260213T005608Z
UID:2029-1778851800-1778853600@gladysnewtonschool.wa.edu.au
SUMMARY:Assembly Rm 8 (Seniors)
DESCRIPTION:
URL:https://gladysnewtonschool.wa.edu.au/event/assembly-rm-8-seniors/
END:VEVENT
BEGIN:VEVENT
DTSTART;TZID=Australia/Perth:20260508T133000
DTEND;TZID=Australia/Perth:20260508T140000
DTSTAMP:20260421T140338
CREATED:20260213T005515Z
LAST-MODIFIED:20260213T005515Z
UID:2027-1778247000-1778248800@gladysnewtonschool.wa.edu.au
SUMMARY:Assembly Rm 3 (Juniors)
DESCRIPTION:
URL:https://gladysnewtonschool.wa.edu.au/event/assembly-rm-3-juniors-2/
END:VEVENT
BEGIN:VEVENT
DTSTART;TZID=Australia/Perth:20260501T133000
DTEND;TZID=Australia/Perth:20260501T140000
DTSTAMP:20260421T140338
CREATED:20260213T005406Z
LAST-MODIFIED:20260213T005406Z
UID:2024-1777642200-1777644000@gladysnewtonschool.wa.edu.au
SUMMARY:Assembly Rm 14 (Seniors)
DESCRIPTION:
URL:https://gladysnewtonschool.wa.edu.au/event/assembly-rm-14-seniors/
END:VEVENT
BEGIN:VEVENT
DTSTART;TZID=Australia/Perth:20260424T133000
DTEND;TZID=Australia/Perth:20260424T140000
DTSTAMP:20260421T140338
CREATED:20260213T005308Z
LAST-MODIFIED:20260213T005308Z
UID:2022-1777037400-1777039200@gladysnewtonschool.wa.edu.au
SUMMARY:Assembly Admin Junior
DESCRIPTION:
URL:https://gladysnewtonschool.wa.edu.au/event/assembly-admin-junior/
END:VEVENT
BEGIN:VEVENT
DTSTART;TZID=Australia/Perth:20260421T081500
DTEND;TZID=Australia/Perth:20260421T143000
DTSTAMP:20260421T140338
CREATED:20251030T094416Z
LAST-MODIFIED:20251111T022115Z
UID:1943-1776759300-1776781800@gladysnewtonschool.wa.edu.au
SUMMARY:Term 2 Begins - All students
DESCRIPTION:
URL:https://gladysnewtonschool.wa.edu.au/event/term-2-begins-3/
CATEGORIES:Whole School
END:VEVENT
BEGIN:VEVENT
DTSTART;TZID=Australia/Perth:20260420T080000
DTEND;TZID=Australia/Perth:20260420T170000
DTSTAMP:20260421T140338
CREATED:20251111T021822Z
LAST-MODIFIED:20251111T021822Z
UID:1964-1776672000-1776704400@gladysnewtonschool.wa.edu.au
SUMMARY:Professional Learning - Staff only - No students
DESCRIPTION:
URL:https://gladysnewtonschool.wa.edu.au/event/professional-learning-staff-only-no-students/
END:VEVENT
BEGIN:VEVENT
DTSTART;TZID=Australia/Perth:20260402T081500
DTEND;TZID=Australia/Perth:20260402T143000
DTSTAMP:20260421T140338
CREATED:20251030T094209Z
LAST-MODIFIED:20251030T094209Z
UID:1940-1775117700-1775140200@gladysnewtonschool.wa.edu.au
SUMMARY:End of Term 1
DESCRIPTION:
URL:https://gladysnewtonschool.wa.edu.au/event/end-of-term-1-2/
CATEGORIES:Whole School
END:VEVENT
BEGIN:VEVENT
DTSTART;TZID=Australia/Perth:20260327T133000
DTEND;TZID=Australia/Perth:20260327T140000
DTSTAMP:20260421T140338
CREATED:20260213T005015Z
LAST-MODIFIED:20260213T005015Z
UID:2020-1774618200-1774620000@gladysnewtonschool.wa.edu.au
SUMMARY:Assembly Rm 15 (Seniors)
DESCRIPTION:
URL:https://gladysnewtonschool.wa.edu.au/event/assembly-rm-15-seniors-2/
END:VEVENT
BEGIN:VEVENT
DTSTART;TZID=Australia/Perth:20260320T133000
DTEND;TZID=Australia/Perth:20260320T140000
DTSTAMP:20260421T140338
CREATED:20260213T004925Z
LAST-MODIFIED:20260213T004925Z
UID:2018-1774013400-1774015200@gladysnewtonschool.wa.edu.au
SUMMARY:Assembly Rm 4 (Seniors)
DESCRIPTION:
URL:https://gladysnewtonschool.wa.edu.au/event/assembly-rm-4-seniors/
END:VEVENT
BEGIN:VEVENT
DTSTART;TZID=Australia/Perth:20260313T133000
DTEND;TZID=Australia/Perth:20260313T140000
DTSTAMP:20260421T140338
CREATED:20260213T004801Z
LAST-MODIFIED:20260213T004801Z
UID:2016-1773408600-1773410400@gladysnewtonschool.wa.edu.au
SUMMARY:Assembly Rm 7 (Seniors)
DESCRIPTION:
URL:https://gladysnewtonschool.wa.edu.au/event/assembly-rm-7-seniors/
END:VEVENT
BEGIN:VEVENT
DTSTART;TZID=Australia/Perth:20260306T133000
DTEND;TZID=Australia/Perth:20260306T140000
DTSTAMP:20260421T140338
CREATED:20260213T004557Z
LAST-MODIFIED:20260213T004557Z
UID:2014-1772803800-1772805600@gladysnewtonschool.wa.edu.au
SUMMARY:Assembly Rm 5 (Seniors)
DESCRIPTION:
URL:https://gladysnewtonschool.wa.edu.au/event/assembly-rm-5-seniors-4/
END:VEVENT
BEGIN:VEVENT
DTSTART;TZID=Australia/Perth:20260227T133000
DTEND;TZID=Australia/Perth:20260227T140000
DTSTAMP:20260421T140338
CREATED:20260213T004429Z
LAST-MODIFIED:20260213T004429Z
UID:2012-1772199000-1772200800@gladysnewtonschool.wa.edu.au
SUMMARY:Assembly Rm 13 (Seniors)
DESCRIPTION:
URL:https://gladysnewtonschool.wa.edu.au/event/assembly-rm-13-seniors-2/
END:VEVENT
BEGIN:VEVENT
DTSTART;TZID=Australia/Perth:20260220T133000
DTEND;TZID=Australia/Perth:20260220T140000
DTSTAMP:20260421T140338
CREATED:20260213T004346Z
LAST-MODIFIED:20260213T004346Z
UID:2010-1771594200-1771596000@gladysnewtonschool.wa.edu.au
SUMMARY:Assembly Rm 6 (Seniors)
DESCRIPTION:
URL:https://gladysnewtonschool.wa.edu.au/event/assembly-rm-6-seniors/
END:VEVENT
BEGIN:VEVENT
DTSTART;TZID=Australia/Perth:20260213T133000
DTEND;TZID=Australia/Perth:20260213T140000
DTSTAMP:20260421T140338
CREATED:20260213T001336Z
LAST-MODIFIED:20260213T001336Z
UID:2008-1770989400-1770991200@gladysnewtonschool.wa.edu.au
SUMMARY:Assembly Rm 21 (Seniors)
DESCRIPTION:
URL:https://gladysnewtonschool.wa.edu.au/event/assembly-rm-21-seniors-2/
CATEGORIES:Assembly
END:VEVENT
BEGIN:VEVENT
DTSTART;TZID=Australia/Perth:20260202T081500
DTEND;TZID=Australia/Perth:20260202T143000
DTSTAMP:20260421T140338
CREATED:20251030T093829Z
LAST-MODIFIED:20251030T093829Z
UID:1934-1770020100-1770042600@gladysnewtonschool.wa.edu.au
SUMMARY:Term 1 Begins - Students
DESCRIPTION:
URL:https://gladysnewtonschool.wa.edu.au/event/term-1-begins-students/
CATEGORIES:Term Dates
END:VEVENT
BEGIN:VEVENT
DTSTART;TZID=Australia/Perth:20260130T080000
DTEND;TZID=Australia/Perth:20260130T150000
DTSTAMP:20260421T140338
CREATED:20251030T094053Z
LAST-MODIFIED:20251030T094053Z
UID:1938-1769760000-1769785200@gladysnewtonschool.wa.edu.au
SUMMARY:Staff ONLY
DESCRIPTION:
URL:https://gladysnewtonschool.wa.edu.au/event/staff-only/
END:VEVENT
BEGIN:VEVENT
DTSTART;TZID=Australia/Perth:20260129T080000
DTEND;TZID=Australia/Perth:20260129T150000
DTSTAMP:20260421T140338
CREATED:20251030T094002Z
LAST-MODIFIED:20251030T094315Z
UID:1936-1769673600-1769698800@gladysnewtonschool.wa.edu.au
SUMMARY:Term 1 - Staff ONLY
DESCRIPTION:
URL:https://gladysnewtonschool.wa.edu.au/event/term-1-staff-only/
END:VEVENT
BEGIN:VEVENT
DTSTART;VALUE=DATE:20251218
DTEND;VALUE=DATE:20251219
DTSTAMP:20260421T140338
CREATED:20250329T084337Z
LAST-MODIFIED:20250329T084337Z
UID:1680-1766016000-1766102399@gladysnewtonschool.wa.edu.au
SUMMARY:End of Term 4 Students
DESCRIPTION:
URL:https://gladysnewtonschool.wa.edu.au/event/end-of-term-4-students/
CATEGORIES:Term Dates
END:VEVENT
BEGIN:VEVENT
DTSTART;TZID=Australia/Perth:20251212T110000
DTEND;TZID=Australia/Perth:20251212T130000
DTSTAMP:20260421T140338
CREATED:20250901T072659Z
LAST-MODIFIED:20250901T072659Z
UID:1891-1765537200-1765544400@gladysnewtonschool.wa.edu.au
SUMMARY:Christmas Concert
DESCRIPTION:
URL:https://gladysnewtonschool.wa.edu.au/event/christmas-concert-2/
CATEGORIES:Whole School
END:VEVENT
BEGIN:VEVENT
DTSTART;TZID=Australia/Perth:20251205T110000
DTEND;TZID=Australia/Perth:20251205T133000
DTSTAMP:20260421T140338
CREATED:20250724T113626Z
LAST-MODIFIED:20250724T113626Z
UID:1825-1764932400-1764941400@gladysnewtonschool.wa.edu.au
SUMMARY:Graduation Assembly - Seniors
DESCRIPTION:
URL:https://gladysnewtonschool.wa.edu.au/event/graduation-assembly-seniors/
CATEGORIES:Assembly
END:VEVENT
BEGIN:VEVENT
DTSTART;TZID=Australia/Perth:20251204T080000
DTEND;TZID=Australia/Perth:20251204T083000
DTSTAMP:20260421T140338
CREATED:20250329T084236Z
LAST-MODIFIED:20250329T084236Z
UID:1678-1764835200-1764837000@gladysnewtonschool.wa.edu.au
SUMMARY:School Board Meeting
DESCRIPTION:
URL:https://gladysnewtonschool.wa.edu.au/event/school-board-meeting-12/
CATEGORIES:School Board Meeting
END:VEVENT
BEGIN:VEVENT
DTSTART;TZID=Australia/Perth:20251128T133000
DTEND;TZID=Australia/Perth:20251128T140000
DTSTAMP:20260421T140338
CREATED:20250919T063221Z
LAST-MODIFIED:20250919T063221Z
UID:1894-1764336600-1764338400@gladysnewtonschool.wa.edu.au
SUMMARY:Year 6 Graduation
DESCRIPTION:All welcome
URL:https://gladysnewtonschool.wa.edu.au/event/year-6-graduation/
CATEGORIES:Whole School
END:VEVENT
END:VCALENDAR