BEGIN:VCALENDAR
VERSION:2.0
PRODID:-//Gladys Newton School - ECPv6.15.17.1//NONSGML v1.0//EN
CALSCALE:GREGORIAN
METHOD:PUBLISH
X-ORIGINAL-URL:https://gladysnewtonschool.wa.edu.au
X-WR-CALDESC:Events for Gladys Newton School
REFRESH-INTERVAL;VALUE=DURATION:PT1H
X-Robots-Tag:noindex
X-PUBLISHED-TTL:PT1H
BEGIN:VTIMEZONE
TZID:Australia/Perth
BEGIN:STANDARD
TZOFFSETFROM:+0800
TZOFFSETTO:+0800
TZNAME:AWST
DTSTART:20220101T000000
END:STANDARD
END:VTIMEZONE
BEGIN:VEVENT
DTSTART;TZID=Australia/Perth:20260202T081500
DTEND;TZID=Australia/Perth:20260202T143000
DTSTAMP:20260420T180526
CREATED:20251030T093829Z
LAST-MODIFIED:20251030T093829Z
UID:1934-1770020100-1770042600@gladysnewtonschool.wa.edu.au
SUMMARY:Term 1 Begins - Students
DESCRIPTION:
URL:https://gladysnewtonschool.wa.edu.au/event/term-1-begins-students/
CATEGORIES:Term Dates
END:VEVENT
BEGIN:VEVENT
DTSTART;VALUE=DATE:20251218
DTEND;VALUE=DATE:20251219
DTSTAMP:20260420T180526
CREATED:20250329T084337Z
LAST-MODIFIED:20250329T084337Z
UID:1680-1766016000-1766102399@gladysnewtonschool.wa.edu.au
SUMMARY:End of Term 4 Students
DESCRIPTION:
URL:https://gladysnewtonschool.wa.edu.au/event/end-of-term-4-students/
CATEGORIES:Term Dates
END:VEVENT
BEGIN:VEVENT
DTSTART;VALUE=DATE:20251014
DTEND;VALUE=DATE:20251015
DTSTAMP:20260420T180526
CREATED:20250329T083127Z
LAST-MODIFIED:20250329T083829Z
UID:1671-1760400000-1760486399@gladysnewtonschool.wa.edu.au
SUMMARY:Term 4 Begins
DESCRIPTION:
URL:https://gladysnewtonschool.wa.edu.au/event/term-4-begins-2/
CATEGORIES:Term Dates
END:VEVENT
BEGIN:VEVENT
DTSTART;VALUE=DATE:20250926
DTEND;VALUE=DATE:20250927
DTSTAMP:20260420T180526
CREATED:20250329T082841Z
LAST-MODIFIED:20250329T082841Z
UID:1665-1758844800-1758931199@gladysnewtonschool.wa.edu.au
SUMMARY:End of Term 3
DESCRIPTION:
URL:https://gladysnewtonschool.wa.edu.au/event/end-of-term-3-3/
CATEGORIES:Term Dates
END:VEVENT
BEGIN:VEVENT
DTSTART;VALUE=DATE:20250722
DTEND;VALUE=DATE:20250723
DTSTAMP:20260420T180526
CREATED:20250329T082125Z
LAST-MODIFIED:20250329T082125Z
UID:1653-1753142400-1753228799@gladysnewtonschool.wa.edu.au
SUMMARY:Term 3 begins
DESCRIPTION:
URL:https://gladysnewtonschool.wa.edu.au/event/term-3-begins-2/
CATEGORIES:Term Dates
END:VEVENT
BEGIN:VEVENT
DTSTART;VALUE=DATE:20250704
DTEND;VALUE=DATE:20250705
DTSTAMP:20260420T180526
CREATED:20250329T082216Z
LAST-MODIFIED:20250329T082216Z
UID:1655-1751587200-1751673599@gladysnewtonschool.wa.edu.au
SUMMARY:End of Term 2
DESCRIPTION:
URL:https://gladysnewtonschool.wa.edu.au/event/end-of-term-2-3/
CATEGORIES:Term Dates
END:VEVENT
BEGIN:VEVENT
DTSTART;TZID=Australia/Perth:20250428T083000
DTEND;TZID=Australia/Perth:20250428T083000
DTSTAMP:20260420T180526
CREATED:20250329T075043Z
LAST-MODIFIED:20250329T075043Z
UID:1638-1745829000-1745829000@gladysnewtonschool.wa.edu.au
SUMMARY:Term 2 Begins
DESCRIPTION:
URL:https://gladysnewtonschool.wa.edu.au/event/term-2-begins-2/
CATEGORIES:Term Dates
END:VEVENT
BEGIN:VEVENT
DTSTART;TZID=Australia/Perth:20250411T080000
DTEND;TZID=Australia/Perth:20250411T143000
DTSTAMP:20260420T180526
CREATED:20250329T074703Z
LAST-MODIFIED:20250329T080808Z
UID:1634-1744358400-1744381800@gladysnewtonschool.wa.edu.au
SUMMARY:End of Term 1
DESCRIPTION:
URL:https://gladysnewtonschool.wa.edu.au/event/end-of-term-2-2/
CATEGORIES:Term Dates
END:VEVENT
BEGIN:VEVENT
DTSTART;VALUE=DATE:20250205
DTEND;VALUE=DATE:20250206
DTSTAMP:20260420T180526
CREATED:20250120T122517Z
LAST-MODIFIED:20250120T122517Z
UID:1567-1738713600-1738799999@gladysnewtonschool.wa.edu.au
SUMMARY:Term One commences
DESCRIPTION:
URL:https://gladysnewtonschool.wa.edu.au/event/term-one-commences/
CATEGORIES:Term Dates
END:VEVENT
BEGIN:VEVENT
DTSTART;TZID=Australia/Perth:20240415T083000
DTEND;TZID=Australia/Perth:20240415T143000
DTSTAMP:20260420T180526
CREATED:20231120T034742Z
LAST-MODIFIED:20240314T134559Z
UID:946-1713169800-1713191400@gladysnewtonschool.wa.edu.au
SUMMARY:Term 2 Begins
DESCRIPTION:
URL:https://gladysnewtonschool.wa.edu.au/event/term-2-begins/
CATEGORIES:Term Dates
END:VEVENT
BEGIN:VEVENT
DTSTART;VALUE=DATE:20231214
DTEND;VALUE=DATE:20231215
DTSTAMP:20260420T180526
CREATED:20230926T073236Z
LAST-MODIFIED:20231010T113015Z
UID:672-1702512000-1702598399@gladysnewtonschool.wa.edu.au
SUMMARY:End of Term 4 - Students
DESCRIPTION:
URL:https://gladysnewtonschool.wa.edu.au/event/term-4-finishes/
CATEGORIES:Term Dates
END:VEVENT
BEGIN:VEVENT
DTSTART;VALUE=DATE:20231009
DTEND;VALUE=DATE:20231010
DTSTAMP:20260420T180526
CREATED:20230926T073033Z
LAST-MODIFIED:20231009T042509Z
UID:667-1696809600-1696895999@gladysnewtonschool.wa.edu.au
SUMMARY:Term 4 begins
DESCRIPTION:
URL:https://gladysnewtonschool.wa.edu.au/event/students-return-today/
CATEGORIES:Term Dates,Whole School
END:VEVENT
BEGIN:VEVENT
DTSTART;VALUE=DATE:20230922
DTEND;VALUE=DATE:20230923
DTSTAMP:20260420T180526
CREATED:20230915T101843Z
LAST-MODIFIED:20230915T101843Z
UID:632-1695340800-1695427199@gladysnewtonschool.wa.edu.au
SUMMARY:End of Term 3
DESCRIPTION:
URL:https://gladysnewtonschool.wa.edu.au/event/end-of-term-3/
CATEGORIES:Term Dates
END:VEVENT
END:VCALENDAR