BEGIN:VCALENDAR
VERSION:2.0
PRODID:-//Gladys Newton School - ECPv6.15.17.1//NONSGML v1.0//EN
CALSCALE:GREGORIAN
METHOD:PUBLISH
X-ORIGINAL-URL:https://gladysnewtonschool.wa.edu.au
X-WR-CALDESC:Events for Gladys Newton School
REFRESH-INTERVAL;VALUE=DURATION:PT1H
X-Robots-Tag:noindex
X-PUBLISHED-TTL:PT1H
BEGIN:VTIMEZONE
TZID:Australia/Perth
BEGIN:STANDARD
TZOFFSETFROM:+0800
TZOFFSETTO:+0800
TZNAME:AWST
DTSTART:20230101T000000
END:STANDARD
END:VTIMEZONE
BEGIN:VEVENT
DTSTART;TZID=Australia/Perth:20260213T133000
DTEND;TZID=Australia/Perth:20260213T140000
DTSTAMP:20260420T180641
CREATED:20260213T001336Z
LAST-MODIFIED:20260213T001336Z
UID:2008-1770989400-1770991200@gladysnewtonschool.wa.edu.au
SUMMARY:Assembly Rm 21 (Seniors)
DESCRIPTION:
URL:https://gladysnewtonschool.wa.edu.au/event/assembly-rm-21-seniors-2/
CATEGORIES:Assembly
END:VEVENT
BEGIN:VEVENT
DTSTART;TZID=Australia/Perth:20251205T110000
DTEND;TZID=Australia/Perth:20251205T133000
DTSTAMP:20260420T180641
CREATED:20250724T113626Z
LAST-MODIFIED:20250724T113626Z
UID:1825-1764932400-1764941400@gladysnewtonschool.wa.edu.au
SUMMARY:Graduation Assembly - Seniors
DESCRIPTION:
URL:https://gladysnewtonschool.wa.edu.au/event/graduation-assembly-seniors/
CATEGORIES:Assembly
END:VEVENT
BEGIN:VEVENT
DTSTART;TZID=Australia/Perth:20241122T133000
DTEND;TZID=Australia/Perth:20241122T140000
DTSTAMP:20260420T180641
CREATED:20240521T125232Z
LAST-MODIFIED:20240521T125232Z
UID:1286-1732282200-1732284000@gladysnewtonschool.wa.edu.au
SUMMARY:Assembly Rm 21 - Seniors
DESCRIPTION:
URL:https://gladysnewtonschool.wa.edu.au/event/assembly-rm-21-seniors/
CATEGORIES:Assembly
END:VEVENT
BEGIN:VEVENT
DTSTART;TZID=Australia/Perth:20241115T133000
DTEND;TZID=Australia/Perth:20241115T140000
DTSTAMP:20260420T180641
CREATED:20240521T125135Z
LAST-MODIFIED:20240521T125154Z
UID:1284-1731677400-1731679200@gladysnewtonschool.wa.edu.au
SUMMARY:Assembly Rm 10 -Juniors
DESCRIPTION:
URL:https://gladysnewtonschool.wa.edu.au/event/assembly-rm-10-juniors/
CATEGORIES:Assembly
END:VEVENT
BEGIN:VEVENT
DTSTART;TZID=Australia/Perth:20241108T133000
DTEND;TZID=Australia/Perth:20241108T140000
DTSTAMP:20260420T180641
CREATED:20240521T125031Z
LAST-MODIFIED:20240521T125031Z
UID:1282-1731072600-1731074400@gladysnewtonschool.wa.edu.au
SUMMARY:Assembly Rm 20 - Seniors
DESCRIPTION:
URL:https://gladysnewtonschool.wa.edu.au/event/assembly-rm-20-seniors/
CATEGORIES:Assembly
END:VEVENT
BEGIN:VEVENT
DTSTART;TZID=Australia/Perth:20241101T133000
DTEND;TZID=Australia/Perth:20241101T140000
DTSTAMP:20260420T180641
CREATED:20240521T124842Z
LAST-MODIFIED:20240521T124842Z
UID:1278-1730467800-1730469600@gladysnewtonschool.wa.edu.au
SUMMARY:Assembly Rm 3a - Juniors
DESCRIPTION:
URL:https://gladysnewtonschool.wa.edu.au/event/assembly-rm-3a-juniors/
CATEGORIES:Assembly
END:VEVENT
BEGIN:VEVENT
DTSTART;TZID=Australia/Perth:20241025T133000
DTEND;TZID=Australia/Perth:20241025T140000
DTSTAMP:20260420T180641
CREATED:20240521T124751Z
LAST-MODIFIED:20240521T124751Z
UID:1276-1729863000-1729864800@gladysnewtonschool.wa.edu.au
SUMMARY:Assembly Rm 13 - Seniors
DESCRIPTION:
URL:https://gladysnewtonschool.wa.edu.au/event/assembly-rm-13-seniors/
CATEGORIES:Assembly
END:VEVENT
BEGIN:VEVENT
DTSTART;TZID=Australia/Perth:20241018T133000
DTEND;TZID=Australia/Perth:20241018T140000
DTSTAMP:20260420T180641
CREATED:20240521T124645Z
LAST-MODIFIED:20240521T124645Z
UID:1274-1729258200-1729260000@gladysnewtonschool.wa.edu.au
SUMMARY:Assembly Rm 7 - Juniors
DESCRIPTION:
URL:https://gladysnewtonschool.wa.edu.au/event/assembly-rm-7-juniors/
CATEGORIES:Assembly
END:VEVENT
BEGIN:VEVENT
DTSTART;TZID=Australia/Perth:20240920T133000
DTEND;TZID=Australia/Perth:20240920T140000
DTSTAMP:20260420T180641
CREATED:20240521T123550Z
LAST-MODIFIED:20240521T123550Z
UID:1266-1726839000-1726840800@gladysnewtonschool.wa.edu.au
SUMMARY:Assembly Rm 2 Juniors
DESCRIPTION:
URL:https://gladysnewtonschool.wa.edu.au/event/assembly-rm-2-juniors-2/
CATEGORIES:Assembly
END:VEVENT
BEGIN:VEVENT
DTSTART;TZID=Australia/Perth:20240913T133000
DTEND;TZID=Australia/Perth:20240913T140000
DTSTAMP:20260420T180641
CREATED:20240521T123127Z
LAST-MODIFIED:20240521T123127Z
UID:1260-1726234200-1726236000@gladysnewtonschool.wa.edu.au
SUMMARY:Assembly Rm 5 - Seniors
DESCRIPTION:
URL:https://gladysnewtonschool.wa.edu.au/event/assembly-rm-5-seniors/
CATEGORIES:Assembly
END:VEVENT
BEGIN:VEVENT
DTSTART;TZID=Australia/Perth:20240830T133000
DTEND;TZID=Australia/Perth:20240830T140000
DTSTAMP:20260420T180641
CREATED:20240521T122916Z
LAST-MODIFIED:20240521T122916Z
UID:1256-1725024600-1725026400@gladysnewtonschool.wa.edu.au
SUMMARY:Assembly Rm 19 - Seniors
DESCRIPTION:
URL:https://gladysnewtonschool.wa.edu.au/event/assembly-rm-19-seniors/
CATEGORIES:Assembly
END:VEVENT
BEGIN:VEVENT
DTSTART;TZID=Australia/Perth:20240823T133000
DTEND;TZID=Australia/Perth:20240823T140000
DTSTAMP:20260420T180641
CREATED:20240521T122800Z
LAST-MODIFIED:20240521T122800Z
UID:1254-1724419800-1724421600@gladysnewtonschool.wa.edu.au
SUMMARY:Assembly Rm 2 - Juniors
DESCRIPTION:
URL:https://gladysnewtonschool.wa.edu.au/event/assembly-rm-2-juniors/
CATEGORIES:Assembly
END:VEVENT
BEGIN:VEVENT
DTSTART;TZID=Australia/Perth:20240816T133000
DTEND;TZID=Australia/Perth:20240816T143000
DTSTAMP:20260420T180641
CREATED:20240521T122301Z
LAST-MODIFIED:20240521T122301Z
UID:1252-1723815000-1723818600@gladysnewtonschool.wa.edu.au
SUMMARY:Assembly Rm 18 Seniors
DESCRIPTION:
URL:https://gladysnewtonschool.wa.edu.au/event/assembly-rm-18-seniors/
CATEGORIES:Assembly
END:VEVENT
BEGIN:VEVENT
DTSTART;TZID=Australia/Perth:20240809T133000
DTEND;TZID=Australia/Perth:20240809T140000
DTSTAMP:20260420T180641
CREATED:20240521T122208Z
LAST-MODIFIED:20240521T122606Z
UID:1250-1723210200-1723212000@gladysnewtonschool.wa.edu.au
SUMMARY:Assembly Rm 6 Juniors
DESCRIPTION:
URL:https://gladysnewtonschool.wa.edu.au/event/assembly-rm-6-juniors/
CATEGORIES:Assembly
END:VEVENT
BEGIN:VEVENT
DTSTART;TZID=Australia/Perth:20240726T133000
DTEND;TZID=Australia/Perth:20240726T170000
DTSTAMP:20260420T180641
CREATED:20240521T122111Z
LAST-MODIFIED:20240521T122111Z
UID:1248-1722000600-1722013200@gladysnewtonschool.wa.edu.au
SUMMARY:Assembly Rm 4  Juniors
DESCRIPTION:
URL:https://gladysnewtonschool.wa.edu.au/event/assembly-rm-4-juniors/
CATEGORIES:Assembly
END:VEVENT
BEGIN:VEVENT
DTSTART;TZID=Australia/Perth:20240621T133000
DTEND;TZID=Australia/Perth:20240621T140000
DTSTAMP:20260420T180641
CREATED:20240517T033127Z
LAST-MODIFIED:20240517T034512Z
UID:1235-1718976600-1718978400@gladysnewtonschool.wa.edu.au
SUMMARY:Rm 5 Assembly - Juniors & Intermediates
DESCRIPTION:
URL:https://gladysnewtonschool.wa.edu.au/event/rm-5-assembly-juniors-intermediates/
CATEGORIES:Assembly
END:VEVENT
BEGIN:VEVENT
DTSTART;TZID=Australia/Perth:20240614T133000
DTEND;TZID=Australia/Perth:20240614T140000
DTSTAMP:20260420T180641
CREATED:20240517T033038Z
LAST-MODIFIED:20240521T122649Z
UID:1233-1718371800-1718373600@gladysnewtonschool.wa.edu.au
SUMMARY:Rm 12 Assembly - Seniors
DESCRIPTION:
URL:https://gladysnewtonschool.wa.edu.au/event/rm-12-assembly-seniors/
CATEGORIES:Assembly
END:VEVENT
BEGIN:VEVENT
DTSTART;TZID=Australia/Perth:20240607T133000
DTEND;TZID=Australia/Perth:20240607T140000
DTSTAMP:20260420T180641
CREATED:20240517T032716Z
LAST-MODIFIED:20240517T034628Z
UID:1226-1717767000-1717768800@gladysnewtonschool.wa.edu.au
SUMMARY:Rm 3 Assembly - Juniors & Intermediates
DESCRIPTION:
URL:https://gladysnewtonschool.wa.edu.au/event/rm-18-assembly-seniors/
CATEGORIES:Assembly
END:VEVENT
BEGIN:VEVENT
DTSTART;TZID=Australia/Perth:20240524T133000
DTEND;TZID=Australia/Perth:20240524T140000
DTSTAMP:20260420T180641
CREATED:20240517T032953Z
LAST-MODIFIED:20240517T035217Z
UID:1231-1716557400-1716559200@gladysnewtonschool.wa.edu.au
SUMMARY:Rm 18 Assembly - Seniors
DESCRIPTION:
URL:https://gladysnewtonschool.wa.edu.au/event/rm-18-assembly-seniors-2/
CATEGORIES:Assembly
END:VEVENT
BEGIN:VEVENT
DTSTART;TZID=Australia/Perth:20240517T133000
DTEND;TZID=Australia/Perth:20240517T140000
DTSTAMP:20260420T180641
CREATED:20240517T015756Z
LAST-MODIFIED:20240517T053846Z
UID:1222-1715952600-1715954400@gladysnewtonschool.wa.edu.au
SUMMARY:Room 10 Assembly - Juniors & Intermediates
DESCRIPTION:
URL:https://gladysnewtonschool.wa.edu.au/event/room-10-assembly/
CATEGORIES:Assembly,Whole School
END:VEVENT
END:VCALENDAR