BEGIN:VCALENDAR
VERSION:2.0
PRODID:-//Gladys Newton School - ECPv6.15.17.1//NONSGML v1.0//EN
CALSCALE:GREGORIAN
METHOD:PUBLISH
X-ORIGINAL-URL:https://gladysnewtonschool.wa.edu.au
X-WR-CALDESC:Events for Gladys Newton School
REFRESH-INTERVAL;VALUE=DURATION:PT1H
X-Robots-Tag:noindex
X-PUBLISHED-TTL:PT1H
BEGIN:VTIMEZONE
TZID:Australia/Perth
BEGIN:STANDARD
TZOFFSETFROM:+0800
TZOFFSETTO:+0800
TZNAME:AWST
DTSTART:20250101T000000
END:STANDARD
END:VTIMEZONE
BEGIN:VEVENT
DTSTART;TZID=Australia/Perth:20260731T133000
DTEND;TZID=Australia/Perth:20260731T140000
DTSTAMP:20260420T205830
CREATED:20260213T010604Z
LAST-MODIFIED:20260213T010604Z
UID:2048-1785504600-1785506400@gladysnewtonschool.wa.edu.au
SUMMARY:Assembly Rm 3 (Juniors)
DESCRIPTION:
URL:https://gladysnewtonschool.wa.edu.au/event/assembly-rm-3-juniors-3/
END:VEVENT
END:VCALENDAR