BEGIN:VCALENDAR
VERSION:2.0
PRODID:-//Gladys Newton School - ECPv6.15.17.1//NONSGML v1.0//EN
CALSCALE:GREGORIAN
METHOD:PUBLISH
X-WR-CALNAME:Gladys Newton School
X-ORIGINAL-URL:https://gladysnewtonschool.wa.edu.au
X-WR-CALDESC:Events for Gladys Newton School
REFRESH-INTERVAL;VALUE=DURATION:PT1H
X-Robots-Tag:noindex
X-PUBLISHED-TTL:PT1H
BEGIN:VTIMEZONE
TZID:Australia/Perth
BEGIN:STANDARD
TZOFFSETFROM:+0800
TZOFFSETTO:+0800
TZNAME:AWST
DTSTART:20250101T000000
END:STANDARD
END:VTIMEZONE
BEGIN:VEVENT
DTSTART;TZID=Australia/Perth:20260720T080000
DTEND;TZID=Australia/Perth:20260720T170000
DTSTAMP:20260420T205614
CREATED:20251111T021901Z
LAST-MODIFIED:20251111T021901Z
UID:1966-1784534400-1784566800@gladysnewtonschool.wa.edu.au
SUMMARY:Professional Learning - Staff only - No students
DESCRIPTION:
URL:https://gladysnewtonschool.wa.edu.au/event/professional-learning-staff-only-no-students-2/
END:VEVENT
END:VCALENDAR